BEGIN:VCALENDAR
VERSION:2.0
PRODID:-//Mezze karavaan - ECPv6.15.20//NONSGML v1.0//EN
CALSCALE:GREGORIAN
METHOD:PUBLISH
X-WR-CALNAME:Mezze karavaan
X-ORIGINAL-URL:https://www.mezzekaravaan.nl
X-WR-CALDESC:Evenementen voor Mezze karavaan
REFRESH-INTERVAL;VALUE=DURATION:PT1H
X-Robots-Tag:noindex
X-PUBLISHED-TTL:PT1H
BEGIN:VTIMEZONE
TZID:Europe/Paris
BEGIN:DAYLIGHT
TZOFFSETFROM:+0100
TZOFFSETTO:+0200
TZNAME:CEST
DTSTART:20230326T010000
END:DAYLIGHT
BEGIN:STANDARD
TZOFFSETFROM:+0200
TZOFFSETTO:+0100
TZNAME:CET
DTSTART:20231029T010000
END:STANDARD
BEGIN:DAYLIGHT
TZOFFSETFROM:+0100
TZOFFSETTO:+0200
TZNAME:CEST
DTSTART:20240331T010000
END:DAYLIGHT
BEGIN:STANDARD
TZOFFSETFROM:+0200
TZOFFSETTO:+0100
TZNAME:CET
DTSTART:20241027T010000
END:STANDARD
BEGIN:DAYLIGHT
TZOFFSETFROM:+0100
TZOFFSETTO:+0200
TZNAME:CEST
DTSTART:20250330T010000
END:DAYLIGHT
BEGIN:STANDARD
TZOFFSETFROM:+0200
TZOFFSETTO:+0100
TZNAME:CET
DTSTART:20251026T010000
END:STANDARD
END:VTIMEZONE
BEGIN:VEVENT
DTSTART;VALUE=DATE:20241001
DTEND;VALUE=DATE:20241002
DTSTAMP:20260420T125855
CREATED:20240723T091623Z
LAST-MODIFIED:20240723T091623Z
UID:1263-1727740800-1727827199@www.mezzekaravaan.nl
SUMMARY:bezet
DESCRIPTION:
URL:https://www.mezzekaravaan.nl/kalender/bezet-61/
END:VEVENT
BEGIN:VEVENT
DTSTART;VALUE=DATE:20241002
DTEND;VALUE=DATE:20241003
DTSTAMP:20260420T125855
CREATED:20240723T091649Z
LAST-MODIFIED:20240723T091649Z
UID:1265-1727827200-1727913599@www.mezzekaravaan.nl
SUMMARY:bezet
DESCRIPTION:
URL:https://www.mezzekaravaan.nl/kalender/bezet-62/
END:VEVENT
BEGIN:VEVENT
DTSTART;VALUE=DATE:20241003
DTEND;VALUE=DATE:20241004
DTSTAMP:20260420T125855
CREATED:20240723T091714Z
LAST-MODIFIED:20240723T091714Z
UID:1267-1727913600-1727999999@www.mezzekaravaan.nl
SUMMARY:bezet
DESCRIPTION:
URL:https://www.mezzekaravaan.nl/kalender/bezet-63/
END:VEVENT
BEGIN:VEVENT
DTSTART;VALUE=DATE:20241004
DTEND;VALUE=DATE:20241005
DTSTAMP:20260420T125855
CREATED:20240723T091748Z
LAST-MODIFIED:20240723T091748Z
UID:1269-1728000000-1728086399@www.mezzekaravaan.nl
SUMMARY:bezet
DESCRIPTION:
URL:https://www.mezzekaravaan.nl/kalender/bezet-64/
END:VEVENT
BEGIN:VEVENT
DTSTART;VALUE=DATE:20241005
DTEND;VALUE=DATE:20241006
DTSTAMP:20260420T125855
CREATED:20240723T091817Z
LAST-MODIFIED:20240723T091817Z
UID:1271-1728086400-1728172799@www.mezzekaravaan.nl
SUMMARY:bezet
DESCRIPTION:
URL:https://www.mezzekaravaan.nl/kalender/bezet-65/
END:VEVENT
BEGIN:VEVENT
DTSTART;VALUE=DATE:20241006
DTEND;VALUE=DATE:20241007
DTSTAMP:20260420T125855
CREATED:20240723T091856Z
LAST-MODIFIED:20240723T091856Z
UID:1273-1728172800-1728259199@www.mezzekaravaan.nl
SUMMARY:bezet
DESCRIPTION:
URL:https://www.mezzekaravaan.nl/kalender/bezet-66/
END:VEVENT
BEGIN:VEVENT
DTSTART;VALUE=DATE:20241007
DTEND;VALUE=DATE:20241008
DTSTAMP:20260420T125855
CREATED:20240723T091920Z
LAST-MODIFIED:20240723T091920Z
UID:1275-1728259200-1728345599@www.mezzekaravaan.nl
SUMMARY:bezet
DESCRIPTION:
URL:https://www.mezzekaravaan.nl/kalender/bezet-67/
END:VEVENT
BEGIN:VEVENT
DTSTART;VALUE=DATE:20241008
DTEND;VALUE=DATE:20241009
DTSTAMP:20260420T125855
CREATED:20240723T091943Z
LAST-MODIFIED:20240723T091943Z
UID:1277-1728345600-1728431999@www.mezzekaravaan.nl
SUMMARY:bezet
DESCRIPTION:
URL:https://www.mezzekaravaan.nl/kalender/bezet-68/
END:VEVENT
BEGIN:VEVENT
DTSTART;VALUE=DATE:20241012
DTEND;VALUE=DATE:20241013
DTSTAMP:20260420T125855
CREATED:20240723T092056Z
LAST-MODIFIED:20240913T055305Z
UID:1283-1728691200-1728777599@www.mezzekaravaan.nl
SUMMARY:bezet
DESCRIPTION:
URL:https://www.mezzekaravaan.nl/kalender/beschikbaar-124/
END:VEVENT
BEGIN:VEVENT
DTSTART;VALUE=DATE:20241013
DTEND;VALUE=DATE:20241014
DTSTAMP:20260420T125855
CREATED:20240723T094202Z
LAST-MODIFIED:20241017T183155Z
UID:1304-1728777600-1728863999@www.mezzekaravaan.nl
SUMMARY:bezet
DESCRIPTION:
URL:https://www.mezzekaravaan.nl/kalender/beschikbaar-129/
END:VEVENT
BEGIN:VEVENT
DTSTART;VALUE=DATE:20241017
DTEND;VALUE=DATE:20241018
DTSTAMP:20260420T125855
CREATED:20240723T094318Z
LAST-MODIFIED:20241017T183034Z
UID:1310-1729123200-1729209599@www.mezzekaravaan.nl
SUMMARY:bezet
DESCRIPTION:
URL:https://www.mezzekaravaan.nl/kalender/beschikbaar-132/
END:VEVENT
BEGIN:VEVENT
DTSTART;VALUE=DATE:20241018
DTEND;VALUE=DATE:20241019
DTSTAMP:20260420T125855
CREATED:20240723T094443Z
LAST-MODIFIED:20241017T184453Z
UID:1316-1729209600-1729295999@www.mezzekaravaan.nl
SUMMARY:bezet
DESCRIPTION:
URL:https://www.mezzekaravaan.nl/kalender/beschikbaar-135/
END:VEVENT
BEGIN:VEVENT
DTSTART;VALUE=DATE:20241019
DTEND;VALUE=DATE:20241020
DTSTAMP:20260420T125855
CREATED:20240723T094407Z
LAST-MODIFIED:20241017T184655Z
UID:1314-1729296000-1729382399@www.mezzekaravaan.nl
SUMMARY:bezet
DESCRIPTION:
URL:https://www.mezzekaravaan.nl/kalender/beschikbaar-134/
END:VEVENT
BEGIN:VEVENT
DTSTART;VALUE=DATE:20241022
DTEND;VALUE=DATE:20241023
DTSTAMP:20260420T125855
CREATED:20241017T192108Z
LAST-MODIFIED:20241017T192108Z
UID:1732-1729555200-1729641599@www.mezzekaravaan.nl
SUMMARY:bezet
DESCRIPTION:
URL:https://www.mezzekaravaan.nl/kalender/bezet-73/
END:VEVENT
BEGIN:VEVENT
DTSTART;VALUE=DATE:20241026
DTEND;VALUE=DATE:20241027
DTSTAMP:20260420T125855
CREATED:20241030T175946Z
LAST-MODIFIED:20241030T175946Z
UID:1742-1729900800-1729987199@www.mezzekaravaan.nl
SUMMARY:bezet
DESCRIPTION:
URL:https://www.mezzekaravaan.nl/kalender/bezet-76/
END:VEVENT
END:VCALENDAR