BEGIN:VCALENDAR
VERSION:2.0
PRODID:-//Mezze karavaan - ECPv6.15.20//NONSGML v1.0//EN
CALSCALE:GREGORIAN
METHOD:PUBLISH
X-WR-CALNAME:Mezze karavaan
X-ORIGINAL-URL:https://www.mezzekaravaan.nl
X-WR-CALDESC:Evenementen voor Mezze karavaan
REFRESH-INTERVAL;VALUE=DURATION:PT1H
X-Robots-Tag:noindex
X-PUBLISHED-TTL:PT1H
BEGIN:VTIMEZONE
TZID:Europe/Paris
BEGIN:DAYLIGHT
TZOFFSETFROM:+0100
TZOFFSETTO:+0200
TZNAME:CEST
DTSTART:20230326T010000
END:DAYLIGHT
BEGIN:STANDARD
TZOFFSETFROM:+0200
TZOFFSETTO:+0100
TZNAME:CET
DTSTART:20231029T010000
END:STANDARD
BEGIN:DAYLIGHT
TZOFFSETFROM:+0100
TZOFFSETTO:+0200
TZNAME:CEST
DTSTART:20240331T010000
END:DAYLIGHT
BEGIN:STANDARD
TZOFFSETFROM:+0200
TZOFFSETTO:+0100
TZNAME:CET
DTSTART:20241027T010000
END:STANDARD
BEGIN:DAYLIGHT
TZOFFSETFROM:+0100
TZOFFSETTO:+0200
TZNAME:CEST
DTSTART:20250330T010000
END:DAYLIGHT
BEGIN:STANDARD
TZOFFSETFROM:+0200
TZOFFSETTO:+0100
TZNAME:CET
DTSTART:20251026T010000
END:STANDARD
END:VTIMEZONE
BEGIN:VEVENT
DTSTART;VALUE=DATE:20240310
DTEND;VALUE=DATE:20240311
DTSTAMP:20260421T064637
CREATED:20240227T173828Z
LAST-MODIFIED:20240227T173828Z
UID:675-1710028800-1710115199@www.mezzekaravaan.nl
SUMMARY:beschikbaar
DESCRIPTION:
URL:https://www.mezzekaravaan.nl/kalender/beschikbaar-4/
END:VEVENT
BEGIN:VEVENT
DTSTART;VALUE=DATE:20240309
DTEND;VALUE=DATE:20240310
DTSTAMP:20260421T064637
CREATED:20240227T173800Z
LAST-MODIFIED:20240227T173800Z
UID:673-1709942400-1710028799@www.mezzekaravaan.nl
SUMMARY:beschikbaar
DESCRIPTION:
URL:https://www.mezzekaravaan.nl/kalender/beschikbaar-3/
END:VEVENT
BEGIN:VEVENT
DTSTART;VALUE=DATE:20240308
DTEND;VALUE=DATE:20240309
DTSTAMP:20260421T064637
CREATED:20240227T173735Z
LAST-MODIFIED:20240227T173735Z
UID:671-1709856000-1709942399@www.mezzekaravaan.nl
SUMMARY:beschikbaar
DESCRIPTION:
URL:https://www.mezzekaravaan.nl/kalender/beschikbaar-2/
END:VEVENT
BEGIN:VEVENT
DTSTART;VALUE=DATE:20240307
DTEND;VALUE=DATE:20240308
DTSTAMP:20260421T064637
CREATED:20240227T173636Z
LAST-MODIFIED:20240227T173636Z
UID:669-1709769600-1709855999@www.mezzekaravaan.nl
SUMMARY:beschikbaar
DESCRIPTION:
URL:https://www.mezzekaravaan.nl/kalender/beschikbaar/
END:VEVENT
BEGIN:VEVENT
DTSTART;VALUE=DATE:20240303
DTEND;VALUE=DATE:20240304
DTSTAMP:20260421T064637
CREATED:20240216T085519Z
LAST-MODIFIED:20240216T085519Z
UID:587-1709424000-1709510399@www.mezzekaravaan.nl
SUMMARY:bezet
DESCRIPTION:
URL:https://www.mezzekaravaan.nl/kalender/bezet-3/
END:VEVENT
BEGIN:VEVENT
DTSTART;VALUE=DATE:20240302
DTEND;VALUE=DATE:20240303
DTSTAMP:20260421T064637
CREATED:20240216T085354Z
LAST-MODIFIED:20240216T085354Z
UID:585-1709337600-1709423999@www.mezzekaravaan.nl
SUMMARY:bezet
DESCRIPTION:
URL:https://www.mezzekaravaan.nl/kalender/bezet-2/
END:VEVENT
BEGIN:VEVENT
DTSTART;VALUE=DATE:20240301
DTEND;VALUE=DATE:20240302
DTSTAMP:20260421T064637
CREATED:20240216T085304Z
LAST-MODIFIED:20240216T085304Z
UID:583-1709251200-1709337599@www.mezzekaravaan.nl
SUMMARY:bezet
DESCRIPTION:
URL:https://www.mezzekaravaan.nl/kalender/bezet/
END:VEVENT
BEGIN:VEVENT
DTSTART;VALUE=DATE:20240229
DTEND;VALUE=DATE:20240301
DTSTAMP:20260421T064637
CREATED:20240216T084438Z
LAST-MODIFIED:20240216T085207Z
UID:580-1709164800-1709251199@www.mezzekaravaan.nl
SUMMARY:bezet
DESCRIPTION:
URL:https://www.mezzekaravaan.nl/kalender/geboekt-2/
END:VEVENT
END:VCALENDAR