BEGIN:VCALENDAR
VERSION:2.0
PRODID:-//Mezze karavaan - ECPv6.15.20//NONSGML v1.0//EN
CALSCALE:GREGORIAN
METHOD:PUBLISH
X-WR-CALNAME:Mezze karavaan
X-ORIGINAL-URL:https://www.mezzekaravaan.nl
X-WR-CALDESC:Evenementen voor Mezze karavaan
REFRESH-INTERVAL;VALUE=DURATION:PT1H
X-Robots-Tag:noindex
X-PUBLISHED-TTL:PT1H
BEGIN:VTIMEZONE
TZID:Europe/Paris
BEGIN:DAYLIGHT
TZOFFSETFROM:+0100
TZOFFSETTO:+0200
TZNAME:CEST
DTSTART:20230326T010000
END:DAYLIGHT
BEGIN:STANDARD
TZOFFSETFROM:+0200
TZOFFSETTO:+0100
TZNAME:CET
DTSTART:20231029T010000
END:STANDARD
BEGIN:DAYLIGHT
TZOFFSETFROM:+0100
TZOFFSETTO:+0200
TZNAME:CEST
DTSTART:20240331T010000
END:DAYLIGHT
BEGIN:STANDARD
TZOFFSETFROM:+0200
TZOFFSETTO:+0100
TZNAME:CET
DTSTART:20241027T010000
END:STANDARD
BEGIN:DAYLIGHT
TZOFFSETFROM:+0100
TZOFFSETTO:+0200
TZNAME:CEST
DTSTART:20250330T010000
END:DAYLIGHT
BEGIN:STANDARD
TZOFFSETFROM:+0200
TZOFFSETTO:+0100
TZNAME:CET
DTSTART:20251026T010000
END:STANDARD
END:VTIMEZONE
BEGIN:VEVENT
DTSTART;VALUE=DATE:20240606
DTEND;VALUE=DATE:20240607
DTSTAMP:20260420T045716
CREATED:20240227T182726Z
LAST-MODIFIED:20240507T083845Z
UID:771-1717632000-1717718399@www.mezzekaravaan.nl
SUMMARY:bezet
DESCRIPTION:
URL:https://www.mezzekaravaan.nl/kalender/beschikbaar-42/
END:VEVENT
BEGIN:VEVENT
DTSTART;VALUE=DATE:20240605
DTEND;VALUE=DATE:20240606
DTSTAMP:20260420T045716
CREATED:20240417T110535Z
LAST-MODIFIED:20240524T094358Z
UID:852-1717545600-1717545600@www.mezzekaravaan.nl
SUMMARY:bezet
DESCRIPTION:
URL:https://www.mezzekaravaan.nl/kalender/kookworkshop-open-inschrijving-bij-atelier-jongerius/
END:VEVENT
BEGIN:VEVENT
DTSTART;VALUE=DATE:20240604
DTEND;VALUE=DATE:20240605
DTSTAMP:20260420T045716
CREATED:20240423T114827Z
LAST-MODIFIED:20240507T083627Z
UID:890-1717459200-1717545599@www.mezzekaravaan.nl
SUMMARY:bezet
DESCRIPTION:
URL:https://www.mezzekaravaan.nl/kalender/beschikbaar-67/
END:VEVENT
BEGIN:VEVENT
DTSTART;VALUE=DATE:20240603
DTEND;VALUE=DATE:20240604
DTSTAMP:20260420T045716
CREATED:20240423T114802Z
LAST-MODIFIED:20240507T083932Z
UID:888-1717372800-1717459199@www.mezzekaravaan.nl
SUMMARY:bezet
DESCRIPTION:
URL:https://www.mezzekaravaan.nl/kalender/beschikbaar-66/
END:VEVENT
BEGIN:VEVENT
DTSTART;VALUE=DATE:20240602
DTEND;VALUE=DATE:20240603
DTSTAMP:20260420T045716
CREATED:20240227T182458Z
LAST-MODIFIED:20240418T070518Z
UID:767-1717286400-1717372799@www.mezzekaravaan.nl
SUMMARY:bezet
DESCRIPTION:
URL:https://www.mezzekaravaan.nl/kalender/beschikbaar-40/
END:VEVENT
BEGIN:VEVENT
DTSTART;VALUE=DATE:20240601
DTEND;VALUE=DATE:20240602
DTSTAMP:20260420T045716
CREATED:20240227T182429Z
LAST-MODIFIED:20240411T090300Z
UID:765-1717200000-1717286399@www.mezzekaravaan.nl
SUMMARY:bezet
DESCRIPTION:
URL:https://www.mezzekaravaan.nl/kalender/beschikbaar-39/
END:VEVENT
BEGIN:VEVENT
DTSTART;VALUE=DATE:20240531
DTEND;VALUE=DATE:20240601
DTSTAMP:20260420T045716
CREATED:20240227T182402Z
LAST-MODIFIED:20240411T090353Z
UID:763-1717113600-1717199999@www.mezzekaravaan.nl
SUMMARY:bezet
DESCRIPTION:
URL:https://www.mezzekaravaan.nl/kalender/beschikbaar-38/
END:VEVENT
BEGIN:VEVENT
DTSTART;VALUE=DATE:20240530
DTEND;VALUE=DATE:20240531
DTSTAMP:20260420T045716
CREATED:20240227T182334Z
LAST-MODIFIED:20240424T084219Z
UID:761-1717027200-1717113599@www.mezzekaravaan.nl
SUMMARY:bezet
DESCRIPTION:
URL:https://www.mezzekaravaan.nl/kalender/beschikbaar-37/
END:VEVENT
BEGIN:VEVENT
DTSTART;VALUE=DATE:20240529
DTEND;VALUE=DATE:20240530
DTSTAMP:20260420T045716
CREATED:20240423T114610Z
LAST-MODIFIED:20240424T084134Z
UID:882-1716940800-1717027199@www.mezzekaravaan.nl
SUMMARY:bezet
DESCRIPTION:
URL:https://www.mezzekaravaan.nl/kalender/beschikbaar-63/
END:VEVENT
BEGIN:VEVENT
DTSTART;VALUE=DATE:20240528
DTEND;VALUE=DATE:20240529
DTSTAMP:20260420T045716
CREATED:20240423T114542Z
LAST-MODIFIED:20240506T175425Z
UID:880-1716854400-1716940799@www.mezzekaravaan.nl
SUMMARY:bezet
DESCRIPTION:
URL:https://www.mezzekaravaan.nl/kalender/beschikbaar-62/
END:VEVENT
BEGIN:VEVENT
DTSTART;VALUE=DATE:20240527
DTEND;VALUE=DATE:20240528
DTSTAMP:20260420T045716
CREATED:20240423T114513Z
LAST-MODIFIED:20240424T084027Z
UID:878-1716768000-1716854399@www.mezzekaravaan.nl
SUMMARY:bezet
DESCRIPTION:
URL:https://www.mezzekaravaan.nl/kalender/beschikbaar-41/
END:VEVENT
BEGIN:VEVENT
DTSTART;VALUE=DATE:20240526
DTEND;VALUE=DATE:20240527
DTSTAMP:20260420T045716
CREATED:20240216T103353Z
LAST-MODIFIED:20240411T090621Z
UID:614-1716681600-1716767999@www.mezzekaravaan.nl
SUMMARY:beschikbaar
DESCRIPTION:
URL:https://www.mezzekaravaan.nl/kalender/bezet-14/
END:VEVENT
BEGIN:VEVENT
DTSTART;VALUE=DATE:20240525
DTEND;VALUE=DATE:20240526
DTSTAMP:20260420T045716
CREATED:20240227T182049Z
LAST-MODIFIED:20240411T090517Z
UID:755-1716595200-1716681599@www.mezzekaravaan.nl
SUMMARY:beschikbaar
DESCRIPTION:
URL:https://www.mezzekaravaan.nl/kalender/bezet-24/
END:VEVENT
BEGIN:VEVENT
DTSTART;VALUE=DATE:20240524
DTEND;VALUE=DATE:20240525
DTSTAMP:20260420T045716
CREATED:20240227T182135Z
LAST-MODIFIED:20240227T182135Z
UID:757-1716508800-1716595199@www.mezzekaravaan.nl
SUMMARY:beschikbaar
DESCRIPTION:
URL:https://www.mezzekaravaan.nl/kalender/beschikbaar-29/
END:VEVENT
BEGIN:VEVENT
DTSTART;VALUE=DATE:20240523
DTEND;VALUE=DATE:20240524
DTSTAMP:20260420T045716
CREATED:20240227T182202Z
LAST-MODIFIED:20240227T182202Z
UID:759-1716422400-1716508799@www.mezzekaravaan.nl
SUMMARY:beschikbaar
DESCRIPTION:
URL:https://www.mezzekaravaan.nl/kalender/beschikbaar-36/
END:VEVENT
BEGIN:VEVENT
DTSTART;VALUE=DATE:20240522
DTEND;VALUE=DATE:20240523
DTSTAMP:20260420T045716
CREATED:20240423T114730Z
LAST-MODIFIED:20240423T114730Z
UID:886-1716336000-1716422399@www.mezzekaravaan.nl
SUMMARY:beschikbaar
DESCRIPTION:
URL:https://www.mezzekaravaan.nl/kalender/beschikbaar-65/
END:VEVENT
BEGIN:VEVENT
DTSTART;VALUE=DATE:20240521
DTEND;VALUE=DATE:20240522
DTSTAMP:20260420T045716
CREATED:20240423T114708Z
LAST-MODIFIED:20240423T114708Z
UID:884-1716249600-1716335999@www.mezzekaravaan.nl
SUMMARY:beschikbaar
DESCRIPTION:
URL:https://www.mezzekaravaan.nl/kalender/beschikbaar-64/
END:VEVENT
BEGIN:VEVENT
DTSTART;VALUE=DATE:20240520
DTEND;VALUE=DATE:20240521
DTSTAMP:20260420T045716
CREATED:20240227T181758Z
LAST-MODIFIED:20240423T114219Z
UID:753-1716163200-1716249599@www.mezzekaravaan.nl
SUMMARY:bezet
DESCRIPTION:
URL:https://www.mezzekaravaan.nl/kalender/beschikbaar-35/
END:VEVENT
BEGIN:VEVENT
DTSTART;VALUE=DATE:20240519
DTEND;VALUE=DATE:20240520
DTSTAMP:20260420T045716
CREATED:20240227T181731Z
LAST-MODIFIED:20240418T070257Z
UID:751-1716076800-1716163199@www.mezzekaravaan.nl
SUMMARY:bezet
DESCRIPTION:
URL:https://www.mezzekaravaan.nl/kalender/beschikbaar-34/
END:VEVENT
BEGIN:VEVENT
DTSTART;VALUE=DATE:20240518
DTEND;VALUE=DATE:20240519
DTSTAMP:20260420T045716
CREATED:20240227T181708Z
LAST-MODIFIED:20240418T070335Z
UID:749-1715990400-1716076799@www.mezzekaravaan.nl
SUMMARY:bezet
DESCRIPTION:
URL:https://www.mezzekaravaan.nl/kalender/beschikbaar-33/
END:VEVENT
BEGIN:VEVENT
DTSTART;VALUE=DATE:20240517
DTEND;VALUE=DATE:20240518
DTSTAMP:20260420T045716
CREATED:20240227T181630Z
LAST-MODIFIED:20240423T114120Z
UID:747-1715904000-1715990399@www.mezzekaravaan.nl
SUMMARY:bezet
DESCRIPTION:
URL:https://www.mezzekaravaan.nl/kalender/beschikbaar-32/
END:VEVENT
BEGIN:VEVENT
DTSTART;VALUE=DATE:20240516
DTEND;VALUE=DATE:20240517
DTSTAMP:20260420T045716
CREATED:20240227T181602Z
LAST-MODIFIED:20240227T181602Z
UID:745-1715817600-1715903999@www.mezzekaravaan.nl
SUMMARY:beschikbaar
DESCRIPTION:
URL:https://www.mezzekaravaan.nl/kalender/beschikbaar-31/
END:VEVENT
BEGIN:VEVENT
DTSTART;VALUE=DATE:20240515
DTEND;VALUE=DATE:20240516
DTSTAMP:20260420T045716
CREATED:20240515T081946Z
LAST-MODIFIED:20240515T081946Z
UID:1065-1715731200-1715817599@www.mezzekaravaan.nl
SUMMARY:bezet
DESCRIPTION:
URL:https://www.mezzekaravaan.nl/kalender/bezet-47/
END:VEVENT
BEGIN:VEVENT
DTSTART;VALUE=DATE:20240514
DTEND;VALUE=DATE:20240515
DTSTAMP:20260420T045716
CREATED:20240423T113844Z
LAST-MODIFIED:20240423T113844Z
UID:866-1715644800-1715731199@www.mezzekaravaan.nl
SUMMARY:beschikbaar
DESCRIPTION:
URL:https://www.mezzekaravaan.nl/kalender/beschikbaar-10/
END:VEVENT
BEGIN:VEVENT
DTSTART;VALUE=DATE:20240513
DTEND;VALUE=DATE:20240514
DTSTAMP:20260420T045716
CREATED:20240423T114430Z
LAST-MODIFIED:20240423T114430Z
UID:876-1715558400-1715644799@www.mezzekaravaan.nl
SUMMARY:beschikbaar
DESCRIPTION:
URL:https://www.mezzekaravaan.nl/kalender/beschikbaar-12/
END:VEVENT
BEGIN:VEVENT
DTSTART;VALUE=DATE:20240512
DTEND;VALUE=DATE:20240513
DTSTAMP:20260420T045716
CREATED:20240227T181529Z
LAST-MODIFIED:20240227T181529Z
UID:743-1715472000-1715558399@www.mezzekaravaan.nl
SUMMARY:beschikbaar
DESCRIPTION:
URL:https://www.mezzekaravaan.nl/kalender/beschikbaar-30/
END:VEVENT
BEGIN:VEVENT
DTSTART;VALUE=DATE:20240511
DTEND;VALUE=DATE:20240512
DTSTAMP:20260420T045716
CREATED:20240227T181435Z
LAST-MODIFIED:20240227T181435Z
UID:739-1715385600-1715471999@www.mezzekaravaan.nl
SUMMARY:beschikbaar
DESCRIPTION:
URL:https://www.mezzekaravaan.nl/kalender/beschikbaar-28/
END:VEVENT
BEGIN:VEVENT
DTSTART;VALUE=DATE:20240510
DTEND;VALUE=DATE:20240511
DTSTAMP:20260420T045716
CREATED:20240227T181350Z
LAST-MODIFIED:20240227T181350Z
UID:737-1715299200-1715385599@www.mezzekaravaan.nl
SUMMARY:beschikbaar
DESCRIPTION:
URL:https://www.mezzekaravaan.nl/kalender/beschikbaar-27/
END:VEVENT
BEGIN:VEVENT
DTSTART;VALUE=DATE:20240509
DTEND;VALUE=DATE:20240510
DTSTAMP:20260420T045716
CREATED:20240227T181322Z
LAST-MODIFIED:20240227T181322Z
UID:735-1715212800-1715299199@www.mezzekaravaan.nl
SUMMARY:beschikbaar
DESCRIPTION:
URL:https://www.mezzekaravaan.nl/kalender/beschikbaar-26/
END:VEVENT
BEGIN:VEVENT
DTSTART;VALUE=DATE:20240507
DTEND;VALUE=DATE:20240508
DTSTAMP:20260420T045716
CREATED:20240417T105940Z
LAST-MODIFIED:20240417T105940Z
UID:850-1715040000-1715126399@www.mezzekaravaan.nl
SUMMARY:bezet
DESCRIPTION:
URL:https://www.mezzekaravaan.nl/kalender/bezet-32/
END:VEVENT
END:VCALENDAR