BEGIN:VCALENDAR
VERSION:2.0
PRODID:-//Mezze karavaan - ECPv6.15.20//NONSGML v1.0//EN
CALSCALE:GREGORIAN
METHOD:PUBLISH
X-WR-CALNAME:Mezze karavaan
X-ORIGINAL-URL:https://www.mezzekaravaan.nl
X-WR-CALDESC:Evenementen voor Mezze karavaan
REFRESH-INTERVAL;VALUE=DURATION:PT1H
X-Robots-Tag:noindex
X-PUBLISHED-TTL:PT1H
BEGIN:VTIMEZONE
TZID:Europe/Paris
BEGIN:DAYLIGHT
TZOFFSETFROM:+0100
TZOFFSETTO:+0200
TZNAME:CEST
DTSTART:20230326T010000
END:DAYLIGHT
BEGIN:STANDARD
TZOFFSETFROM:+0200
TZOFFSETTO:+0100
TZNAME:CET
DTSTART:20231029T010000
END:STANDARD
BEGIN:DAYLIGHT
TZOFFSETFROM:+0100
TZOFFSETTO:+0200
TZNAME:CEST
DTSTART:20240331T010000
END:DAYLIGHT
BEGIN:STANDARD
TZOFFSETFROM:+0200
TZOFFSETTO:+0100
TZNAME:CET
DTSTART:20241027T010000
END:STANDARD
BEGIN:DAYLIGHT
TZOFFSETFROM:+0100
TZOFFSETTO:+0200
TZNAME:CEST
DTSTART:20250330T010000
END:DAYLIGHT
BEGIN:STANDARD
TZOFFSETFROM:+0200
TZOFFSETTO:+0100
TZNAME:CET
DTSTART:20251026T010000
END:STANDARD
END:VTIMEZONE
BEGIN:VEVENT
DTSTART;VALUE=DATE:20240630
DTEND;VALUE=DATE:20240701
DTSTAMP:20260420T014316
CREATED:20240227T184400Z
LAST-MODIFIED:20240523T142810Z
UID:803-1719705600-1719791999@www.mezzekaravaan.nl
SUMMARY:beschikbaar
DESCRIPTION:
URL:https://www.mezzekaravaan.nl/kalender/beschikbaar-53/
END:VEVENT
BEGIN:VEVENT
DTSTART;VALUE=DATE:20240629
DTEND;VALUE=DATE:20240630
DTSTAMP:20260420T014316
CREATED:20240227T184326Z
LAST-MODIFIED:20240523T142732Z
UID:801-1719619200-1719705599@www.mezzekaravaan.nl
SUMMARY:beschikbaar
DESCRIPTION:
URL:https://www.mezzekaravaan.nl/kalender/beschikbaar-52/
END:VEVENT
BEGIN:VEVENT
DTSTART;VALUE=DATE:20240628
DTEND;VALUE=DATE:20240629
DTSTAMP:20260420T014316
CREATED:20240227T184252Z
LAST-MODIFIED:20240523T142843Z
UID:799-1719532800-1719619199@www.mezzekaravaan.nl
SUMMARY:beschikbaar
DESCRIPTION:
URL:https://www.mezzekaravaan.nl/kalender/beschikbaar-51/
END:VEVENT
BEGIN:VEVENT
DTSTART;VALUE=DATE:20240627
DTEND;VALUE=DATE:20240628
DTSTAMP:20260420T014316
CREATED:20240227T183750Z
LAST-MODIFIED:20240418T055528Z
UID:797-1719446400-1719532799@www.mezzekaravaan.nl
SUMMARY:bezet
DESCRIPTION:
URL:https://www.mezzekaravaan.nl/kalender/beschikbaar-50/
END:VEVENT
BEGIN:VEVENT
DTSTART;VALUE=DATE:20240626
DTEND;VALUE=DATE:20240627
DTSTAMP:20260420T014316
CREATED:20240424T084745Z
LAST-MODIFIED:20240424T084745Z
UID:913-1719360000-1719446399@www.mezzekaravaan.nl
SUMMARY:bezet
DESCRIPTION:
URL:https://www.mezzekaravaan.nl/kalender/bezet-40/
END:VEVENT
BEGIN:VEVENT
DTSTART;VALUE=DATE:20240625
DTEND;VALUE=DATE:20240626
DTSTAMP:20260420T014316
CREATED:20240424T084719Z
LAST-MODIFIED:20240424T084719Z
UID:911-1719273600-1719359999@www.mezzekaravaan.nl
SUMMARY:bezet
DESCRIPTION:
URL:https://www.mezzekaravaan.nl/kalender/bezet-39/
END:VEVENT
BEGIN:VEVENT
DTSTART;VALUE=DATE:20240624
DTEND;VALUE=DATE:20240625
DTSTAMP:20260420T014316
CREATED:20240424T084654Z
LAST-MODIFIED:20240424T084654Z
UID:909-1719187200-1719273599@www.mezzekaravaan.nl
SUMMARY:bezet
DESCRIPTION:
URL:https://www.mezzekaravaan.nl/kalender/bezet-38/
END:VEVENT
BEGIN:VEVENT
DTSTART;VALUE=DATE:20240623
DTEND;VALUE=DATE:20240624
DTSTAMP:20260420T014316
CREATED:20240227T183723Z
LAST-MODIFIED:20240227T183723Z
UID:795-1719100800-1719187199@www.mezzekaravaan.nl
SUMMARY:bezet
DESCRIPTION:
URL:https://www.mezzekaravaan.nl/kalender/bezet-29/
END:VEVENT
BEGIN:VEVENT
DTSTART;VALUE=DATE:20240622
DTEND;VALUE=DATE:20240623
DTSTAMP:20260420T014316
CREATED:20240227T183609Z
LAST-MODIFIED:20240227T183609Z
UID:793-1719014400-1719100799@www.mezzekaravaan.nl
SUMMARY:bezet
DESCRIPTION:
URL:https://www.mezzekaravaan.nl/kalender/bezet-28/
END:VEVENT
BEGIN:VEVENT
DTSTART;VALUE=DATE:20240621
DTEND;VALUE=DATE:20240622
DTSTAMP:20260420T014316
CREATED:20240227T183540Z
LAST-MODIFIED:20240227T183540Z
UID:791-1718928000-1719014399@www.mezzekaravaan.nl
SUMMARY:bezet
DESCRIPTION:
URL:https://www.mezzekaravaan.nl/kalender/bezet-27/
END:VEVENT
BEGIN:VEVENT
DTSTART;VALUE=DATE:20240620
DTEND;VALUE=DATE:20240621
DTSTAMP:20260420T014316
CREATED:20240227T183512Z
LAST-MODIFIED:20240227T183512Z
UID:789-1718841600-1718927999@www.mezzekaravaan.nl
SUMMARY:bezet
DESCRIPTION:
URL:https://www.mezzekaravaan.nl/kalender/bezet-26/
END:VEVENT
BEGIN:VEVENT
DTSTART;VALUE=DATE:20240619
DTEND;VALUE=DATE:20240620
DTSTAMP:20260420T014316
CREATED:20240424T084607Z
LAST-MODIFIED:20240424T084607Z
UID:907-1718755200-1718841599@www.mezzekaravaan.nl
SUMMARY:bezet
DESCRIPTION:
URL:https://www.mezzekaravaan.nl/kalender/bezet-37/
END:VEVENT
BEGIN:VEVENT
DTSTART;VALUE=DATE:20240618
DTEND;VALUE=DATE:20240619
DTSTAMP:20260420T014316
CREATED:20240424T084539Z
LAST-MODIFIED:20240424T084539Z
UID:905-1718668800-1718755199@www.mezzekaravaan.nl
SUMMARY:bezet
DESCRIPTION:
URL:https://www.mezzekaravaan.nl/kalender/bezet-36/
END:VEVENT
BEGIN:VEVENT
DTSTART;VALUE=DATE:20240617
DTEND;VALUE=DATE:20240618
DTSTAMP:20260420T014316
CREATED:20240424T084511Z
LAST-MODIFIED:20240424T084511Z
UID:903-1718582400-1718668799@www.mezzekaravaan.nl
SUMMARY:bezet
DESCRIPTION:
URL:https://www.mezzekaravaan.nl/kalender/bezet-35/
END:VEVENT
BEGIN:VEVENT
DTSTART;VALUE=DATE:20240616
DTEND;VALUE=DATE:20240617
DTSTAMP:20260420T014316
CREATED:20240227T183148Z
LAST-MODIFIED:20240523T142638Z
UID:785-1718496000-1718582399@www.mezzekaravaan.nl
SUMMARY:bezet
DESCRIPTION:
URL:https://www.mezzekaravaan.nl/kalender/beschikbaar-49/
END:VEVENT
BEGIN:VEVENT
DTSTART;VALUE=DATE:20240615
DTEND;VALUE=DATE:20240616
DTSTAMP:20260420T014316
CREATED:20240227T183121Z
LAST-MODIFIED:20240523T142507Z
UID:783-1718409600-1718495999@www.mezzekaravaan.nl
SUMMARY:bezet
DESCRIPTION:
URL:https://www.mezzekaravaan.nl/kalender/beschikbaar-48/
END:VEVENT
BEGIN:VEVENT
DTSTART;VALUE=DATE:20240614
DTEND;VALUE=DATE:20240615
DTSTAMP:20260420T014316
CREATED:20240227T183054Z
LAST-MODIFIED:20240523T151206Z
UID:781-1718323200-1718409599@www.mezzekaravaan.nl
SUMMARY:bezet
DESCRIPTION:
URL:https://www.mezzekaravaan.nl/kalender/beschikbaar-47/
END:VEVENT
BEGIN:VEVENT
DTSTART;VALUE=DATE:20240613
DTEND;VALUE=DATE:20240614
DTSTAMP:20260420T014316
CREATED:20240227T183020Z
LAST-MODIFIED:20240227T183020Z
UID:779-1718236800-1718323199@www.mezzekaravaan.nl
SUMMARY:beschikbaar
DESCRIPTION:
URL:https://www.mezzekaravaan.nl/kalender/beschikbaar-46/
END:VEVENT
BEGIN:VEVENT
DTSTART;VALUE=DATE:20240612
DTEND;VALUE=DATE:20240613
DTSTAMP:20260420T014316
CREATED:20240423T115135Z
LAST-MODIFIED:20240515T121743Z
UID:897-1718150400-1718236799@www.mezzekaravaan.nl
SUMMARY:beschikbaar
DESCRIPTION:
URL:https://www.mezzekaravaan.nl/kalender/beschikbaar-69/
END:VEVENT
BEGIN:VEVENT
DTSTART;VALUE=DATE:20240611
DTEND;VALUE=DATE:20240612
DTSTAMP:20260420T014316
CREATED:20240423T115031Z
LAST-MODIFIED:20240423T115031Z
UID:893-1718064000-1718150399@www.mezzekaravaan.nl
SUMMARY:bezet
DESCRIPTION:
URL:https://www.mezzekaravaan.nl/kalender/bezet-34/
END:VEVENT
BEGIN:VEVENT
DTSTART;VALUE=DATE:20240610
DTEND;VALUE=DATE:20240611
DTSTAMP:20260420T014316
CREATED:20240423T115055Z
LAST-MODIFIED:20240423T115055Z
UID:895-1717977600-1718063999@www.mezzekaravaan.nl
SUMMARY:beschikbaar
DESCRIPTION:
URL:https://www.mezzekaravaan.nl/kalender/beschikbaar-68/
END:VEVENT
BEGIN:VEVENT
DTSTART;VALUE=DATE:20240609
DTEND;VALUE=DATE:20240610
DTSTAMP:20260420T014316
CREATED:20240227T182847Z
LAST-MODIFIED:20240227T182847Z
UID:777-1717891200-1717977599@www.mezzekaravaan.nl
SUMMARY:beschikbaar
DESCRIPTION:
URL:https://www.mezzekaravaan.nl/kalender/beschikbaar-45/
END:VEVENT
BEGIN:VEVENT
DTSTART;VALUE=DATE:20240608
DTEND;VALUE=DATE:20240609
DTSTAMP:20260420T014316
CREATED:20240227T182820Z
LAST-MODIFIED:20240515T160954Z
UID:775-1717804800-1717891199@www.mezzekaravaan.nl
SUMMARY:beschikbaar
DESCRIPTION:
URL:https://www.mezzekaravaan.nl/kalender/beschikbaar-44/
END:VEVENT
BEGIN:VEVENT
DTSTART;VALUE=DATE:20240607
DTEND;VALUE=DATE:20240608
DTSTAMP:20260420T014316
CREATED:20240227T182753Z
LAST-MODIFIED:20240227T182753Z
UID:773-1717718400-1717804799@www.mezzekaravaan.nl
SUMMARY:beschikbaar
DESCRIPTION:
URL:https://www.mezzekaravaan.nl/kalender/beschikbaar-43/
END:VEVENT
BEGIN:VEVENT
DTSTART;VALUE=DATE:20240606
DTEND;VALUE=DATE:20240607
DTSTAMP:20260420T014316
CREATED:20240227T182726Z
LAST-MODIFIED:20240507T083845Z
UID:771-1717632000-1717718399@www.mezzekaravaan.nl
SUMMARY:bezet
DESCRIPTION:
URL:https://www.mezzekaravaan.nl/kalender/beschikbaar-42/
END:VEVENT
BEGIN:VEVENT
DTSTART;VALUE=DATE:20240605
DTEND;VALUE=DATE:20240606
DTSTAMP:20260420T014316
CREATED:20240417T110535Z
LAST-MODIFIED:20240524T094358Z
UID:852-1717545600-1717545600@www.mezzekaravaan.nl
SUMMARY:bezet
DESCRIPTION:
URL:https://www.mezzekaravaan.nl/kalender/kookworkshop-open-inschrijving-bij-atelier-jongerius/
END:VEVENT
BEGIN:VEVENT
DTSTART;VALUE=DATE:20240604
DTEND;VALUE=DATE:20240605
DTSTAMP:20260420T014316
CREATED:20240423T114827Z
LAST-MODIFIED:20240507T083627Z
UID:890-1717459200-1717545599@www.mezzekaravaan.nl
SUMMARY:bezet
DESCRIPTION:
URL:https://www.mezzekaravaan.nl/kalender/beschikbaar-67/
END:VEVENT
BEGIN:VEVENT
DTSTART;VALUE=DATE:20240603
DTEND;VALUE=DATE:20240604
DTSTAMP:20260420T014316
CREATED:20240423T114802Z
LAST-MODIFIED:20240507T083932Z
UID:888-1717372800-1717459199@www.mezzekaravaan.nl
SUMMARY:bezet
DESCRIPTION:
URL:https://www.mezzekaravaan.nl/kalender/beschikbaar-66/
END:VEVENT
BEGIN:VEVENT
DTSTART;VALUE=DATE:20240602
DTEND;VALUE=DATE:20240603
DTSTAMP:20260420T014316
CREATED:20240227T182458Z
LAST-MODIFIED:20240418T070518Z
UID:767-1717286400-1717372799@www.mezzekaravaan.nl
SUMMARY:bezet
DESCRIPTION:
URL:https://www.mezzekaravaan.nl/kalender/beschikbaar-40/
END:VEVENT
BEGIN:VEVENT
DTSTART;VALUE=DATE:20240601
DTEND;VALUE=DATE:20240602
DTSTAMP:20260420T014316
CREATED:20240227T182429Z
LAST-MODIFIED:20240411T090300Z
UID:765-1717200000-1717286399@www.mezzekaravaan.nl
SUMMARY:bezet
DESCRIPTION:
URL:https://www.mezzekaravaan.nl/kalender/beschikbaar-39/
END:VEVENT
END:VCALENDAR