BEGIN:VCALENDAR
VERSION:2.0
PRODID:-//Mezze karavaan - ECPv6.15.20//NONSGML v1.0//EN
CALSCALE:GREGORIAN
METHOD:PUBLISH
X-WR-CALNAME:Mezze karavaan
X-ORIGINAL-URL:https://www.mezzekaravaan.nl
X-WR-CALDESC:Evenementen voor Mezze karavaan
REFRESH-INTERVAL;VALUE=DURATION:PT1H
X-Robots-Tag:noindex
X-PUBLISHED-TTL:PT1H
BEGIN:VTIMEZONE
TZID:Europe/Paris
BEGIN:DAYLIGHT
TZOFFSETFROM:+0100
TZOFFSETTO:+0200
TZNAME:CEST
DTSTART:20250330T010000
END:DAYLIGHT
BEGIN:STANDARD
TZOFFSETFROM:+0200
TZOFFSETTO:+0100
TZNAME:CET
DTSTART:20251026T010000
END:STANDARD
BEGIN:DAYLIGHT
TZOFFSETFROM:+0100
TZOFFSETTO:+0200
TZNAME:CEST
DTSTART:20260329T010000
END:DAYLIGHT
BEGIN:STANDARD
TZOFFSETFROM:+0200
TZOFFSETTO:+0100
TZNAME:CET
DTSTART:20261025T010000
END:STANDARD
BEGIN:DAYLIGHT
TZOFFSETFROM:+0100
TZOFFSETTO:+0200
TZNAME:CEST
DTSTART:20270328T010000
END:DAYLIGHT
BEGIN:STANDARD
TZOFFSETFROM:+0200
TZOFFSETTO:+0100
TZNAME:CET
DTSTART:20271031T010000
END:STANDARD
END:VTIMEZONE
BEGIN:VEVENT
DTSTART;VALUE=DATE:20260507
DTEND;VALUE=DATE:20260508
DTSTAMP:20260421T200715
CREATED:20260331T083141Z
LAST-MODIFIED:20260331T083141Z
UID:3351-1778112000-1778198399@www.mezzekaravaan.nl
SUMMARY:vrij voor workshop
DESCRIPTION:
URL:https://www.mezzekaravaan.nl/kalender/vrij-voor-workshop-5/
LOCATION:Brabant of Ardennen
END:VEVENT
BEGIN:VEVENT
DTSTART;VALUE=DATE:20260507
DTEND;VALUE=DATE:20260508
DTSTAMP:20260421T200715
CREATED:20260331T083207Z
LAST-MODIFIED:20260331T083207Z
UID:3353-1778112000-1778198399@www.mezzekaravaan.nl
SUMMARY:Breda eo/Ardennen
DESCRIPTION:
URL:https://www.mezzekaravaan.nl/kalender/breda-eo-ardennen-6/
END:VEVENT
END:VCALENDAR